BEGIN:VCALENDAR
VERSION:2.0
PRODID:icalendar-ruby
CALSCALE:GREGORIAN
BEGIN:VEVENT
DTSTAMP:20260425T162232Z
UID:c9905a16-1310-4878-8c29-d3fd874ac914
DTSTART;VALUE=DATE:20250618
DTEND;VALUE=DATE:20250619
SUMMARY:Year 6 Mathex Competition
END:VEVENT
END:VCALENDAR
