BEGIN:VCALENDAR
VERSION:2.0
PRODID:icalendar-ruby
CALSCALE:GREGORIAN
BEGIN:VEVENT
DTSTAMP:20260425T162242Z
UID:400ff73b-afdb-4ff5-a4fd-e548ff87a4dc
DTSTART;VALUE=DATE:20250620
DTEND;VALUE=DATE:20250621
SUMMARY:Matariki - School Closed
END:VEVENT
END:VCALENDAR
