BEGIN:VCALENDAR
VERSION:2.0
PRODID:icalendar-ruby
CALSCALE:GREGORIAN
BEGIN:VEVENT
DTSTAMP:20260425T162232Z
UID:61ac721a-a7ed-4c72-b6ee-18ca4da3010f
DTSTART:20250617T190000Z
DTEND:20250617T203001Z
SUMMARY:Matariki Breakfast
END:VEVENT
END:VCALENDAR
