BEGIN:VCALENDAR
VERSION:2.0
PRODID:icalendar-ruby
CALSCALE:GREGORIAN
BEGIN:VEVENT
DTSTAMP:20260425T162232Z
UID:eac8e840-94da-4081-a50d-b1927efe35b2
DTSTART;VALUE=DATE:20250627
DTEND;VALUE=DATE:20250628
SUMMARY:Last Day of Term 2
END:VEVENT
END:VCALENDAR
