BEGIN:VCALENDAR
VERSION:2.0
PRODID:icalendar-ruby
CALSCALE:GREGORIAN
BEGIN:VEVENT
DTSTAMP:20260425T162241Z
UID:93a2c199-cd1a-4726-8677-ac502c29901d
DTSTART;VALUE=DATE:20250714
DTEND;VALUE=DATE:20250715
SUMMARY:First Day of Term 3
END:VEVENT
END:VCALENDAR
